BEGIN:VCALENDAR
VERSION:2.0
PRODID:-//SV Tresenwald e.V. Machern | Tischtennis - ECPv6.15.18//NONSGML v1.0//EN
CALSCALE:GREGORIAN
METHOD:PUBLISH
X-ORIGINAL-URL:https://svtresenwald-tischtennis.de
X-WR-CALDESC:Veranstaltungen für SV Tresenwald e.V. Machern | Tischtennis
REFRESH-INTERVAL;VALUE=DURATION:PT1H
X-Robots-Tag:noindex
X-PUBLISHED-TTL:PT1H
BEGIN:VTIMEZONE
TZID:Europe/Berlin
BEGIN:DAYLIGHT
TZOFFSETFROM:+0100
TZOFFSETTO:+0200
TZNAME:CEST
DTSTART:20230326T010000
END:DAYLIGHT
BEGIN:STANDARD
TZOFFSETFROM:+0200
TZOFFSETTO:+0100
TZNAME:CET
DTSTART:20231029T010000
END:STANDARD
BEGIN:DAYLIGHT
TZOFFSETFROM:+0100
TZOFFSETTO:+0200
TZNAME:CEST
DTSTART:20240331T010000
END:DAYLIGHT
BEGIN:STANDARD
TZOFFSETFROM:+0200
TZOFFSETTO:+0100
TZNAME:CET
DTSTART:20241027T010000
END:STANDARD
BEGIN:DAYLIGHT
TZOFFSETFROM:+0100
TZOFFSETTO:+0200
TZNAME:CEST
DTSTART:20250330T010000
END:DAYLIGHT
BEGIN:STANDARD
TZOFFSETFROM:+0200
TZOFFSETTO:+0100
TZNAME:CET
DTSTART:20251026T010000
END:STANDARD
END:VTIMEZONE
BEGIN:VEVENT
DTSTART;TZID=Europe/Berlin:20241002T190000
DTEND;TZID=Europe/Berlin:20241002T213000
DTSTAMP:20260421T001454
CREATED:20241012T124117Z
LAST-MODIFIED:20241012T124117Z
UID:6683-1727895600-1727904600@svtresenwald-tischtennis.de
SUMMARY:SV Tresenwald 3 - TTV 96 Grimma 2 (2. Kreisliga A)
DESCRIPTION:SV Tresenwald 3 – TTV 96 Grimma 2 (2. Kreisliga A) \nTeilen mit:\n				Auf Facebook teilen (Wird in neuem Fenster geöffnet)\n				Facebook\n			\n				Auf WhatsApp teilen (Wird in neuem Fenster geöffnet)\n				WhatsApp\n			\n				Einen Link per E-Mail an einen Freund senden (Wird in neuem Fenster geöffnet)\n				E-Mail
URL:https://svtresenwald-tischtennis.de/kalender/sv-tresenwald-3-ttv-96-grimma-2-2-kreisliga-a/
LOCATION:Kleine Halle des Sportpark Tresenwald\, Gartenallee 8\, 04827\, Machern
CATEGORIES:3. Mannschaft
ORGANIZER;CN="Detlef Hauk":MAILTO:NoReply@TischtennisLive_de
END:VEVENT
END:VCALENDAR